BEGIN:VCALENDAR
VERSION:2.0
PRODID:-//Helping Touch Wellness &amp; Natural Health - ECPv6.15.16//NONSGML v1.0//EN
CALSCALE:GREGORIAN
METHOD:PUBLISH
X-ORIGINAL-URL:https://thehelpingtouch.com.au
X-WR-CALDESC:Events for Helping Touch Wellness &amp; Natural Health
REFRESH-INTERVAL;VALUE=DURATION:PT1H
X-Robots-Tag:noindex
X-PUBLISHED-TTL:PT1H
BEGIN:VTIMEZONE
TZID:Australia/Brisbane
BEGIN:STANDARD
TZOFFSETFROM:+1000
TZOFFSETTO:+1000
TZNAME:AEST
DTSTART:20170101T000000
END:STANDARD
END:VTIMEZONE
BEGIN:VEVENT
DTSTART;TZID=Australia/Brisbane:20180616T110000
DTEND;TZID=Australia/Brisbane:20180616T140000
DTSTAMP:20260425T033301
CREATED:20180302T024040Z
LAST-MODIFIED:20180608T060643Z
UID:1685-1529146800-1529157600@thehelpingtouch.com.au
SUMMARY:Aromatherapy Workshop - Make Your Own Signature Blend
DESCRIPTION:  \nAromatherapy \n\nEssential oils are a great alternative to synthetic perfumes. They’re a concentrated distillation of herbs\, flowers\, barks and resins that have the most amazing healing benefits. In this workshop we will teach you how to design your own signature blend for uplifting\, calming\, soothing or simply to enjoy as a perfume. \n\n\n\n\n\nBeyond the pleasure of perfume\, essential oils form the basis for the practice of aromatherapy – using oils to treat health problems. However\, there are some precautions required when using essential oils\, so we’ll show you how to use them safely. \n\n\n\n\n\nIn this aromatherapy workshop you will:\n\n\n\n\n\n•Experience the feeling that each aroma brings.\n\n\n•Understand the benefits of helpful essential oils.\n\n\n•Learn amazing information from an expert in the field.\n\n\n•Discover a simple formula to create a unique blend which you can take home at the end of the class!\n\n\n•How do essential oils affect the cannabinoid system\n\n\n\n\n\nFor only $45 you can secure one of a limited number of spots\, but hurry \, they’re filling up quickly! \n\n\n\n\n\nThis workshop includes a light lunch\, your own personal blend and all of the information summarised so you wont forget what you’ve learned. Participants of our previous aromatherapy workshops said they had a great time learning in a fun yet professional environment. It’s a unique experience to not only smell the oils but to experience how they make you feel!\n\n\n\n\n 
URL:https://thehelpingtouch.com.au/event/signature-blend/
LOCATION:Helping Touch Clinic\, 40 Ainsdale St\, Chermside West\, QLD\, 4032\, Australia
ATTACH;FMTTYPE=image/jpeg:https://thehelpingtouch.com.au/wp-content/uploads/2018/03/essential-oils-box-of-samples.jpg
ORGANIZER;CN="Paul Rudge":MAILTO:paul@thehelpingtouch.com.au
END:VEVENT
BEGIN:VEVENT
DTSTART;TZID=Australia/Brisbane:20180218T130000
DTEND;TZID=Australia/Brisbane:20180218T160000
DTSTAMP:20260425T033301
CREATED:20180114T050913Z
LAST-MODIFIED:20180130T043059Z
UID:1579-1518958800-1518969600@thehelpingtouch.com.au
SUMMARY:Essential Oil Workshop
DESCRIPTION:This informative and interactive essential oils workshop will be led by Paul Rudge\, a qualified Aromatherapist and Naturopath.  \nAromatherapy is the practice of using the natural oils extracted from plants and flowers to enhance your physical and emotional well-being.  However\, using essential oils is more than just for their smell. They do have significant benefits in a variety of applications such as inhalation\, topical and mood changing. This Essential Oil Workshop explains further  the use of Aromatherapy around the homes in first aid situations and general health. \nWhat’s in the Essential Oils Workshop\n\nHow to safely use pure essential oils \nHow to blend for diffusers or perfumes\nAnswer your questions\nProvide helpful recipes\n\nIt will be fun program where you will make your own signature aromatherapy blend. \nCall or text the clinic mobile to reserve your place. (Mobile 0401 473 760)  \nEvent cost includes your own blend to take home with you.
URL:https://thehelpingtouch.com.au/event/essential-oils-workshop-2/
LOCATION:Helping Touch Clinic\, 40 Ainsdale St\, Chermside West\, QLD\, 4032\, Australia
ORGANIZER;CN="Paul Rudge":MAILTO:paul@thehelpingtouch.com.au
END:VEVENT
BEGIN:VEVENT
DTSTART;TZID=Australia/Brisbane:20180209T093000
DTEND;TZID=Australia/Brisbane:20180209T123000
DTSTAMP:20260425T033301
CREATED:20180130T041808Z
LAST-MODIFIED:20180406T041155Z
UID:1607-1518168600-1518179400@thehelpingtouch.com.au
SUMMARY:Aromatherapy Workshop
DESCRIPTION:Lavender field in Provence\nAromatherapy (noun) =  is the therapeutic use of plant-derived\, aromatic essential oils to promote physical and psychological well-being. It is sometimes used in combination with massage and other therapeutic techniques as part of a holistic treatment approach. \nWelcome to this year’s series of aromatherapy workshops.\nIn this aromatherapy workshop you will learn the art of balancing scent. How does Eucalyptus radiata differ from Peppermint Gum? Can you tell the difference between English and Australian Peppermint oil? Enjoy the experience of comparing oils of various origins and discover how that changes their perfume.   Paul will also cover some safety aspects to using essential oils. He’ll show you what’s important to look for when choosing the best quality oils. There will be time to ask questions during the workshop. On completion you will be able to take home your own signature aromatherapy blend. \n\nLearning with others is fun as well as informative and we want you to have a great experience.\nThese workshops will be led by Paul Rudge\, a qualified aroma-therapist for over 10 years.\nHis passion for essential oils is evident as he leads you into the world of beautiful and therapeutic aromas.\n\nNotes and “recipes” will be provided \nMorning tea is included. \nTo book your spot call the clinic number or send a text message to the mobile.\n(Workshops are held Friday & Saturday mornings and Sunday afternoons – so you can pick a time that suits you.)
URL:https://thehelpingtouch.com.au/event/aromatherapy-workshop/
LOCATION:Helping Touch Clinic\, 40 Ainsdale St\, Chermside West\, QLD\, 4032\, Australia
ORGANIZER;CN="Paul Rudge":MAILTO:paul@thehelpingtouch.com.au
END:VEVENT
END:VCALENDAR